BEGIN:VCALENDAR
VERSION:2.0
PRODID:-//AZ Fly Shop - ECPv6.11.2//NONSGML v1.0//EN
CALSCALE:GREGORIAN
METHOD:PUBLISH
X-WR-CALNAME:AZ Fly Shop
X-ORIGINAL-URL:https://www.azflyshop.com
X-WR-CALDESC:Events for AZ Fly Shop
REFRESH-INTERVAL;VALUE=DURATION:PT1H
X-Robots-Tag:noindex
X-PUBLISHED-TTL:PT1H
BEGIN:VTIMEZONE
TZID:America/Phoenix
BEGIN:STANDARD
TZOFFSETFROM:-0700
TZOFFSETTO:-0700
TZNAME:MST
DTSTART:20250101T000000
END:STANDARD
END:VTIMEZONE
BEGIN:VEVENT
DTSTART;TZID=America/Phoenix:20250221T170000
DTEND;TZID=America/Phoenix:20250221T190000
DTSTAMP:20260421T100705
CREATED:20241016T195725Z
LAST-MODIFIED:20250211T232024Z
UID:18632-1740157200-1740164400@www.azflyshop.com
SUMMARY:Winston Days Happy Hour
DESCRIPTION:Happy Hour 4:30 PM – 6:30 PM \nWe are Kicking off Winston Days with Happy Hour at AZ Fly Shop! Come enjoy an evening with Winston Pros and Reps. Hors d’oeuvres and light refreshments will be served – Alcohol will not be served BYOB \n\nRSVP HERE
URL:https://www.azflyshop.com/event/winston-days-happy-hour-2/
LOCATION:AZ Fly Shop\, 3254 E. Cactus Rd. 3254 E. Cactus Rd\, Phoenix\, 85032\, United States
CATEGORIES:Community Events & Meet-Ups
END:VEVENT
BEGIN:VEVENT
DTSTART;TZID=America/Phoenix:20250213T180000
DTEND;TZID=America/Phoenix:20250213T200000
DTSTAMP:20260421T100705
CREATED:20241016T195341Z
LAST-MODIFIED:20241229T031814Z
UID:18574-1739469600-1739476800@www.azflyshop.com
SUMMARY:Fly Tying Meet-Up
DESCRIPTION:Register HERE Join us for a laidback\, informal\, freestyle fly-tying session. Aimed at bringing our community together to share ideas\, techniques\, fish stories and good times. Bring a friend\, your own tying tools\, materials and your favorite beverage.
URL:https://www.azflyshop.com/event/fly-tying-meet-up-55/
LOCATION:AZ Fly Shop\, 3254 E. Cactus Rd. 3254 E. Cactus Rd\, Phoenix\, 85032\, United States
CATEGORIES:Community Events & Meet-Ups
ATTACH;FMTTYPE=image/png:https://www.azflyshop.com/wp-content/uploads/2023/11/FT-Meetup.png
END:VEVENT
BEGIN:VEVENT
DTSTART;TZID=America/Phoenix:20250130T180000
DTEND;TZID=America/Phoenix:20250130T200000
DTSTAMP:20260421T100705
CREATED:20241016T195340Z
LAST-MODIFIED:20241229T031814Z
UID:18573-1738260000-1738267200@www.azflyshop.com
SUMMARY:Fly Tying Meet-Up
DESCRIPTION:Register HERE Join us for a laidback\, informal\, freestyle fly-tying session. Aimed at bringing our community together to share ideas\, techniques\, fish stories and good times. Bring a friend\, your own tying tools\, materials and your favorite beverage.
URL:https://www.azflyshop.com/event/fly-tying-meet-up-54/
LOCATION:AZ Fly Shop\, 3254 E. Cactus Rd. 3254 E. Cactus Rd\, Phoenix\, 85032\, United States
CATEGORIES:Community Events & Meet-Ups
ATTACH;FMTTYPE=image/png:https://www.azflyshop.com/wp-content/uploads/2023/11/FT-Meetup.png
END:VEVENT
BEGIN:VEVENT
DTSTART;TZID=America/Phoenix:20250123T180000
DTEND;TZID=America/Phoenix:20250123T200000
DTSTAMP:20260421T100705
CREATED:20241016T195339Z
LAST-MODIFIED:20241229T031814Z
UID:18572-1737655200-1737662400@www.azflyshop.com
SUMMARY:Fly Tying Meet-Up
DESCRIPTION:Register HERE Join us for a laidback\, informal\, freestyle fly-tying session. Aimed at bringing our community together to share ideas\, techniques\, fish stories and good times. Bring a friend\, your own tying tools\, materials and your favorite beverage.
URL:https://www.azflyshop.com/event/fly-tying-meet-up-53/
LOCATION:AZ Fly Shop\, 3254 E. Cactus Rd. 3254 E. Cactus Rd\, Phoenix\, 85032\, United States
CATEGORIES:Community Events & Meet-Ups
ATTACH;FMTTYPE=image/png:https://www.azflyshop.com/wp-content/uploads/2023/11/FT-Meetup.png
END:VEVENT
BEGIN:VEVENT
DTSTART;TZID=America/Phoenix:20250109T180000
DTEND;TZID=America/Phoenix:20250109T200000
DTSTAMP:20260421T100705
CREATED:20241016T195338Z
LAST-MODIFIED:20241229T031814Z
UID:18571-1736445600-1736452800@www.azflyshop.com
SUMMARY:Fly Tying Meet-Up
DESCRIPTION:Register HERE Join us for a laidback\, informal\, freestyle fly-tying session. Aimed at bringing our community together to share ideas\, techniques\, fish stories and good times. Bring a friend\, your own tying tools\, materials and your favorite beverage.
URL:https://www.azflyshop.com/event/fly-tying-meet-up-52/
LOCATION:AZ Fly Shop\, 3254 E. Cactus Rd. 3254 E. Cactus Rd\, Phoenix\, 85032\, United States
CATEGORIES:Community Events & Meet-Ups
ATTACH;FMTTYPE=image/png:https://www.azflyshop.com/wp-content/uploads/2023/11/FT-Meetup.png
END:VEVENT
BEGIN:VEVENT
DTSTART;TZID=America/Phoenix:20250102T180000
DTEND;TZID=America/Phoenix:20250102T200000
DTSTAMP:20260421T100705
CREATED:20241016T195337Z
LAST-MODIFIED:20241229T031814Z
UID:18570-1735840800-1735848000@www.azflyshop.com
SUMMARY:Fly Tying Meet-Up
DESCRIPTION:Register HERE Join us for a laidback\, informal\, freestyle fly-tying session. Aimed at bringing our community together to share ideas\, techniques\, fish stories and good times. Bring a friend\, your own tying tools\, materials and your favorite beverage.
URL:https://www.azflyshop.com/event/fly-tying-meet-up-51/
LOCATION:AZ Fly Shop\, 3254 E. Cactus Rd. 3254 E. Cactus Rd\, Phoenix\, 85032\, United States
CATEGORIES:Community Events & Meet-Ups
ATTACH;FMTTYPE=image/png:https://www.azflyshop.com/wp-content/uploads/2023/11/FT-Meetup.png
END:VEVENT
END:VCALENDAR